Workbook
Name ф301: 'Протокол ШЭ ВОШ по предмету'!$1:$1048576

Sheet Протокол ШЭ ВОШ по предмету
A1: № | B1: Фамилия | C1: Имя | D1: Отчество | E1: Дата рождения | F1: Пол | G1: Участник с ОВЗ (да/нет) | H1: Класс обучения | I1: Класс участия | J1: Балл | K1: Максимальный балл | L1: Статус | M1: Призёр муниципального этапа прошлого года | N1: ФИО учителя | O1: Место работы учителя
A2: 1 | B2: Андреева | C2: София | D2: Сергеевна | E2: =[1]Лист1!E6 -> 05.10 2010 | F2: =[1]Лист1!F6 -> Ж | G2: нет | H2: 5 | I2: 5 | J2: 18 | K2: 39 | L2: участник | M2: нет | N2: Хусаинова Галия Шамиловна | O2: Муниципальное бюджетное общеобразовательное учреждение "Школа №10" г. Лениногорска Республики Татарстан
A3: 2 | B3: Гаязутдинов | C3: Амир | D3: Альбеотович | E3: =[1]Лист1!E7 -> 40546 | F3: =[1]Лист1!F7 -> М | G3: нет | H3: 5 | I3: 5 | J3: 12 | K3: 39 | L3: участник | M3: нет | N3: Хусаинова Галия Шамиловна | O3: Муниципальное бюджетное общеобразовательное учреждение "Школа №10" г. Лениногорска Республики Татарстан
A4: 3 | B4: Поляков | C4: Кирилл | D4: Андреевич | E4: =[1]Лист1!E8 -> 40207 | F4: =[1]Лист1!F8 -> М | G4: нет | H4: 5 | I4: 5 | J4: 10 | K4: 39 | L4: участник | M4: нет | N4: Хусаинова Галия Шамиловна | O4: Муниципальное бюджетное общеобразовательное учреждение "Школа №10" г. Лениногорска Республики Татарстан
A5: 4 | B5: Кашапова | C5: Эльвира | D5: Расиховна | E5: =[1]Лист1!E9 -> 40387 | F5: =[1]Лист1!F9 -> Ж | G5: нет | H5: 5 | I5: 5 | J5: 20 | K5: 39 | L5: призер | M5: нет | N5: Хусаинова Галия Шамиловна | O5: Муниципальное бюджетное общеобразовательное учреждение "Школа №10" г. Лениногорска Республики Татарстан
A6: 5 | B6: Кузнецова | C6: Анастасия | D6: Александровна | E6: =[1]Лист1!E10 -> 39952 | F6: =[1]Лист1!F10 -> Ж | G6: нет | H6: 6 | I6: 6 | J6: 32 | K6: 57 | L6: призер | M6: нет | N6: Хусаинова Галия Шамиловна | O6: Муниципальное бюджетное общеобразовательное учреждение "Школа №10" г. Лениногорска Республики Татарстан
A7: 6 | B7: Гареева | C7: Яна | D7: Марселевна | E7: =[1]Лист1!E11 -> 39860 | F7: =[1]Лист1!F11 -> Ж | G7: нет | H7: 6 | I7: 6 | J7: 28 | K7: 57 | L7: участник | M7: нет | N7: Хусаинова Галия Шамиловна | O7: Муниципальное бюджетное общеобразовательное учреждение "Школа №10" г. Лениногорска Республики Татарстан
A8: 7 | B8: Филимонова | C8: Анна | D8: Алексеевна | E8: =[1]Лист1!E12 -> 40062 | F8: =[1]Лист1!F12 -> Ж | G8: нет | H8: 6 | I8: 6 | J8: 32 | K8: 57 | L8: призер | M8: нет | N8: Хусаинова Галия Шамиловна | O8: Муниципальное бюджетное общеобразовательное учреждение "Школа №10" г. Лениногорска Республики Татарстан
A9: 8 | B9: Минахметова | C9: Камила | D9: Ильдаровна | E9: =[1]Лист1!E13 -> 39837 | F9: =[1]Лист1!F13 -> Ж | G9: нет | H9: 6 | I9: 6 | J9: 27 | K9: 57 | L9: участник | M9: нет | N9: Хусаинова Галия Шамиловна | O9: Муниципальное бюджетное общеобразовательное учреждение "Школа №10" г. Лениногорска Республики Татарстан
A10: 9 | B10: Гальперина | C10: Диана | D10: Денисовна | E10: =[1]Лист1!E14 -> 39601 | F10: =[1]Лист1!F14 -> Ж | G10: нет | H10: 7 | I10: 7 | J10: 49 | K10: 60 | L10: призер | M10: нет | N10: Хусаинова Галия Шамиловна | O10: Муниципальное бюджетное общеобразовательное учреждение "Школа №10" г. Лениногорска Республики Татарстан
A11: 10 | B11: Чуйкова | C11: Виктория | D11: Витальевна | E11: =[1]Лист1!E15 -> 39118 | F11: =[1]Лист1!F15 -> Ж | G11: нет | H11: 7 | I11: 7 | J11: 50 | K11: 60 | L11: призер | M11: нет | N11: Хусаинова Галия Шамиловна | O11: Муниципальное бюджетное общеобразовательное учреждение "Школа №10" г. Лениногорска Республики Татарстан
A12: 11 | B12: Сафиуллин | C12: Ирек | D12: Дамирович | E12: =[1]Лист1!E16 -> 39262 | F12: =[1]Лист1!F16 -> М | G12: нет | H12: 7 | I12: 7 | J12: 47 | K12: 60 | L12: призер | M12: нет | N12: Хусаинова Галия Шамиловна | O12: Муниципальное бюджетное общеобразовательное учреждение "Школа №10" г. Лениногорска Республики Татарстан
A13: 12 | B13: Шамсутдинов | C13: Руслан | D13: Расимович | E13: =[1]Лист1!E17 -> 39258 | F13: =[1]Лист1!F17 -> М | G13: нет | H13: 7 | I13: 7 | J13: 54 | K13: 60 | L13: победитель | M13: нет | N13: Хусаинова Галия Шамиловна | O13: Муниципальное бюджетное общеобразовательное учреждение "Школа №10" г. Лениногорска Республики Татарстан
A14: 13 | B14: Гареева | C14: Луиза | D14: Радиковна | E14: =[1]Лист1!E18 -> 38901 | F14: =[1]Лист1!F18 -> Ж | G14: нет | H14: 8 | I14: 8 | J14: 44.75 | K14: 86 | L14: призер | M14: нет | N14: Хусаинова Галия Шамиловна | O14: Муниципальное бюджетное общеобразовательное учреждение "Школа №10" г. Лениногорска Республики Татарстан
A15: 14 | B15: Хайбуллова | C15: Виктория | D15: Рифовна | E15: =[1]Лист1!E19 -> 39007 | F15: =[1]Лист1!F19 -> Ж | G15: нет | H15: 8 | I15: 8 | J15: 42.75 | K15: 86 | L15: участник | M15: нет | N15: Хусаинова Галия Шамиловна | O15: Муниципальное бюджетное общеобразовательное учреждение "Школа №10" г. Лениногорска Республики Татарстан
A16: 15 | B16: Каримова | C16: Яна | D16: Игоревна | E16: =[1]Лист1!E20 -> 38994 | F16: =[1]Лист1!F20 -> Ж | G16: нет | H16: 8 | I16: 8 | J16: 36.5 | K16: 86 | L16: участник | M16: нет | N16: Хусаинова Галия Шамиловна | O16: Муниципальное бюджетное общеобразовательное учреждение "Школа №10" г. Лениногорска Республики Татарстан
A17: 16 | B17: Ялалова | C17: Маргарита | D17: Маратовна | E17: =[1]Лист1!E21 -> 38901 | F17: =[1]Лист1!F21 -> Ж | G17: нет | H17: 9 | I17: 9 | J17: 28 ,5 | K17: 87 | L17: участник | M17: нет | N17: Хусаинова Галия Шамиловна | O17: Муниципальное бюджетное общеобразовательное учреждение "Школа №10" г. Лениногорска Республики Татарстан
A18: 17 | B18: Толстова | C18: Юлиана | D18: Андреевна | E18: =[1]Лист1!E22 -> 39007 | F18: =[1]Лист1!F22 -> Ж | G18: нет | H18: 9 | I18: 9 | J18: 32.5 | K18: 87 | L18: призер | M18: нет | N18: Хусаинова Галия Шамиловна | O18: Муниципальное бюджетное общеобразовательное учреждение "Школа №10" г. Лениногорска Республики Татарстан
A19: 18 | B19: Бакиров | C19: Айдар | D19: Айратович | E19: =[1]Лист1!E23 -> 38994 | F19: =[1]Лист1!F23 -> М | G19: нет | H19: 9 | I19: 9 | J19: 22 | K19: 87 | L19: участник | M19: нет | N19: Хусаинова Галия Шамиловна | O19: Муниципальное бюджетное общеобразовательное учреждение "Школа №10" г. Лениногорска Республики Татарстан
